BEGIN:VCALENDAR
VERSION:2.0
PRODID:-//PYVOBJECT//NONSGML Version 1//EN
BEGIN:VEVENT
UID:3462:116
DTSTART:20110112T000000
DTEND:20110113T000000
DESCRIPTION:
DTSTAMP:20260421T195545Z
SUMMARY:Einladung Schweinefachtage
END:VEVENT
END:VCALENDAR
