BEGIN:VCALENDAR
VERSION:2.0
PRODID:-//PYVOBJECT//NONSGML Version 1//EN
BEGIN:VEVENT
UID:3462:1669
DTSTART:20130907T000000
DTEND:20130908T000000
DESCRIPTION:
DTSTAMP:20260421T200318Z
SUMMARY:Wir sind am Gady-Markt in Lebring vom 7.-8.9.2013 mit dabei!
END:VEVENT
END:VCALENDAR
