BEGIN:VCALENDAR
VERSION:2.0
PRODID:-//PYVOBJECT//NONSGML Version 1//EN
BEGIN:VEVENT
UID:3462:3132
DTSTART:20150608T000000
DTEND:20150608T000000
DESCRIPTION:
DTSTAMP:20260421T194353Z
SUMMARY:Aktions-Wochen von 5. bis 19. Juni 2015
END:VEVENT
END:VCALENDAR
